BEGIN:VCALENDAR
VERSION:2.0
PRODID:-//Norwegian Society Washington DC - ECPv6.0.1.1//NONSGML v1.0//EN
CALSCALE:GREGORIAN
METHOD:PUBLISH
X-ORIGINAL-URL:https://www.nosodc.org
X-WR-CALDESC:Events for Norwegian Society Washington DC
REFRESH-INTERVAL;VALUE=DURATION:PT1H
X-Robots-Tag:noindex
X-PUBLISHED-TTL:PT1H
BEGIN:VTIMEZONE
TZID:UTC
BEGIN:STANDARD
TZOFFSETFROM:+0000
TZOFFSETTO:+0000
TZNAME:UTC
DTSTART:20180101T000000
END:STANDARD
TZID:America/New_York
BEGIN:DAYLIGHT
TZOFFSETFROM:-0500
TZOFFSETTO:-0400
TZNAME:EDT
DTSTART:20220313T070000
END:DAYLIGHT
BEGIN:STANDARD
TZOFFSETFROM:-0400
TZOFFSETTO:-0500
TZNAME:EST
DTSTART:20221106T060000
END:STANDARD
END:VTIMEZONE
BEGIN:VEVENT
DTSTART;TZID=UTC:20181202T160000
DTEND;TZID=UTC:20181202T180000
DTSTAMP:20260424T200336
CREATED:20170622T233958Z
LAST-MODIFIED:20181105T013416Z
UID:10000023-1543766400-1543773600@www.nosodc.org
SUMMARY:Norwegian Society Juletrefest/Christmas Party 2018
DESCRIPTION: \nPlease join us for our annual Norwegian Society Juletrefest on Sunday\, December 2 from 4 to 6 PM. All ages are welcome!\n\nLocation: The Harrison (new this year!) \nAddress: 1800 Jonathan Way\, Reston\, VA 20190 \nParking: When you pull into the complex\, drive around the semi-circle to the front door. Drop off passengers and any items you wish to leave. Someone from the Society will be at the door to greet you and present you with a parking pass. You will then exit the way you came and drive across Temporary Road to 1801 Old Reston Avenue\, Reston\, VA 20190. The parking lot there is for guest parking.\n\n		\n							\n						\n				BRING A DISH TO SHARE 			\n			\n					\n	This event cost is $10 per person\, but there is no fee for children under 12. Please bring a contribution to our julebord/Christmas buffet. Bring either a main dish or dessert. Norwegian homemade food is of course most welcome\, but other Christmas fare or one of your favorite dishes will of course be welcome as well. Please RSVP and prepay using the form below.\nEvery year we get a visitor from the far North who brings treats for the children. This year is no exception. \nIn addition to our sumptuous buffet\, Norwegian Society will also serve gløgg\, soda\, water\, coffee\, tea\, and a Christmas ham. There will be a nicely decorated tree where we will all gather to sing traditional carols in Norwegian and English. There will be Norwegian music to accompany our caroling\, and you will be able to visit with friends\, old and new. The winners of the annual Christmas raffle will be announced right before you leave. \nA big thank you goes out to our Membership Director\, Zach Jenkins\, for hosting us! \n		\n							\n						\n				\nWe look forward to seeing you on December 2 and wish you all GOD JUL\n			\n			\n					\n			\n							\n						\n				REGISTER
URL:https://www.nosodc.org/events/nosojuletrefest2018/
LOCATION:The Harrison\, 1800 Jonathan Way\, Reston\, VA\, 20190\, United States
CATEGORIES:NoSo
GEO:38.960865;-77.353236
X-APPLE-STRUCTURED-LOCATION;VALUE=URI;X-ADDRESS=The Harrison 1800 Jonathan Way Reston VA 20190 United States;X-APPLE-RADIUS=500;X-TITLE=1800 Jonathan Way:geo:-77.353236,38.960865
END:VEVENT
BEGIN:VEVENT
DTSTART;TZID=UTC:20190330T170000
DTEND;TZID=UTC:20190330T193000
DTSTAMP:20260424T200336
CREATED:20181228T215004Z
LAST-MODIFIED:20190304T021358Z
UID:10000051-1553965200-1553974200@www.nosodc.org
SUMMARY:Norwegian Society Movie Night March 30\, 2019
DESCRIPTION:Please join us for a relaxing evening at The Harrison (where we had our Juletrefest/Christmas Party last year) and watch the Norwegian movie Kongens Nei/The King’s Choice with us on Saturday\, March 30. \nWe will meet and mingle at 5 PM and start the private viewing at 5:30 PM. Light refreshments will be served: popcorn\, beer/wine\, soda\, and water. We ask that you pay in advance to offset our costs. Member price: $7\, Guest/non-member: $12. \nPlease note that this event is first come\, first serve – we have limited spots available. \nTime: 5 – 7:30 PM\nPlace: The Harrison in Reston\nAddress: 1800 Jonathan Way\, Reston\, VA 20190 \nParking: When you pull into the complex\, drive around the semi-circle to the front door. Someone from the Society will be at the door to greet you and present you with a parking pass. You will then exit the way you came and drive across Temporary Road to: 1801 Old Reston Avenue\, Reston\, VA 20190. The parking lot there is for guest parking. \n  \nAbout the movie:\nThe King’s Choice/Kongens nei is a 2016 biographical war film directed by Erik Poppe. It is a co-production between Norway and Ireland and was selected as the Norwegian entry for the Best Foreign Language Film at the 89th Academy Awards. In December 2016\, it made the shortlist of nine films to be considered for a nomination. It has received great reviews both in Norway and abroad. \n  \n		\n							\n						\n				\nGet your tickets!
URL:https://www.nosodc.org/events/movienight0319/
LOCATION:The Harrison\, 1800 Jonathan Way\, Reston\, VA\, 20190\, United States
CATEGORIES:Kirken,NoSo
GEO:38.960865;-77.353236
X-APPLE-STRUCTURED-LOCATION;VALUE=URI;X-ADDRESS=The Harrison 1800 Jonathan Way Reston VA 20190 United States;X-APPLE-RADIUS=500;X-TITLE=1800 Jonathan Way:geo:-77.353236,38.960865
END:VEVENT
BEGIN:VEVENT
DTSTART;TZID=UTC:20191012T160000
DTEND;TZID=UTC:20191012T180000
DTSTAMP:20260424T200336
CREATED:20190602T053237Z
LAST-MODIFIED:20190930T021214Z
UID:10000054-1570896000-1570903200@www.nosodc.org
SUMMARY:Annual Meeting / Dinner
DESCRIPTION:Please join us for the NOSOKIRKEN Annual Meeting on October 12 at The Harrison in Reston  \nWe will start to mingle at 4 PM\, partake in an excellent meal\, and then we will have our annual business meeting.  Our president and treasurer will present their annual reports and the nomination committee will present the new board for 2020. Please note that only members in good standing (having paid dues for 2019) may cast their vote. \nAs usual\, we ask to you to bring a generous dish to share for our buffet style meal. Water\, soda\, tea/coffee will be provided. \nParking: When you pull into the complex\, drive around the semi-circle to the front door. Drop off passengers and any items you wish to leave. Someone from the Society will be at the reception desk to greet you and present you with a parking pass. You will then exit the way you came and drive across Temporary Road to \n1801 Old Reston Avenue\, Reston\, VA 20190. The parking lot there is for guest parking.
URL:https://www.nosodc.org/events/annual-meeting-dinner/
LOCATION:The Harrison\, 1800 Jonathan Way\, Reston\, VA\, 20190\, United States
ATTACH;FMTTYPE=image/jpeg:https://www.nosodc.org/wp-content/uploads/2019/06/norsk-koldtbord.jpg
GEO:38.960865;-77.353236
X-APPLE-STRUCTURED-LOCATION;VALUE=URI;X-ADDRESS=The Harrison 1800 Jonathan Way Reston VA 20190 United States;X-APPLE-RADIUS=500;X-TITLE=1800 Jonathan Way:geo:-77.353236,38.960865
END:VEVENT
BEGIN:VEVENT
DTSTART;TZID=America/New_York:20221217T170000
DTEND;TZID=America/New_York:20221217T190000
DTSTAMP:20260424T200336
CREATED:20221203T202547Z
LAST-MODIFIED:20221203T215222Z
UID:10000125-1671296400-1671303600@www.nosodc.org
SUMMARY:JULEFEST/CHRISTMAS PARTY
DESCRIPTION:Join us for our Annual Julefest on December 17th from 5-7 pm at the Harrison in Reston! This year marks a very special anniversary for the Norwegian Society. We are celebrating 120 years of gathering the Norwegian community together in the Washington DC area. So dress for the festive occasion and come on out and celebrate with us! \nWe encourage you to bring your favorite Christmas dish for our potluck-style feast – whether it is Norwegian-inspired or not. The Norwegian Society will be sponsoring a Christmas ham\, kransekake\, gløgg\, and soft drinks\, but most other dishes and/or desserts are welcome. Please RSVP below to indicate what you would like to bring and how many people will attend. Since Julenissen (Santa) will most definitely make an appearance\, it would especially be good to know how many children will be present. \nAs you remember from years past\, parking is not available in the front of the building\, but there is ample parking just next to the building in the lot at 1801 Old Reston Avenue\, Reston\, VA 20190. There will be markers to help guide you along the way. \nVelkommen and God Jul!
URL:https://www.nosodc.org/events/xmasparty22/
LOCATION:The Harrison\, 1800 Jonathan Way\, Reston\, VA\, 20190\, United States
GEO:38.960865;-77.353236
X-APPLE-STRUCTURED-LOCATION;VALUE=URI;X-ADDRESS=The Harrison 1800 Jonathan Way Reston VA 20190 United States;X-APPLE-RADIUS=500;X-TITLE=1800 Jonathan Way:geo:-77.353236,38.960865
END:VEVENT
END:VCALENDAR